BEGIN:VCALENDAR
VERSION:2.0
PRODID:-//Cati Yoga - ECPv6.15.20//NONSGML v1.0//EN
CALSCALE:GREGORIAN
METHOD:PUBLISH
X-WR-CALNAME:Cati Yoga
X-ORIGINAL-URL:https://catiyoga.it
X-WR-CALDESC:Eventi per Cati Yoga
REFRESH-INTERVAL;VALUE=DURATION:PT1H
X-Robots-Tag:noindex
X-PUBLISHED-TTL:PT1H
BEGIN:VTIMEZONE
TZID:Europe/Rome
BEGIN:DAYLIGHT
TZOFFSETFROM:+0100
TZOFFSETTO:+0200
TZNAME:CEST
DTSTART:20240331T010000
END:DAYLIGHT
BEGIN:STANDARD
TZOFFSETFROM:+0200
TZOFFSETTO:+0100
TZNAME:CET
DTSTART:20241027T010000
END:STANDARD
BEGIN:DAYLIGHT
TZOFFSETFROM:+0100
TZOFFSETTO:+0200
TZNAME:CEST
DTSTART:20250330T010000
END:DAYLIGHT
BEGIN:STANDARD
TZOFFSETFROM:+0200
TZOFFSETTO:+0100
TZNAME:CET
DTSTART:20251026T010000
END:STANDARD
BEGIN:DAYLIGHT
TZOFFSETFROM:+0100
TZOFFSETTO:+0200
TZNAME:CEST
DTSTART:20260329T010000
END:DAYLIGHT
BEGIN:STANDARD
TZOFFSETFROM:+0200
TZOFFSETTO:+0100
TZNAME:CET
DTSTART:20261025T010000
END:STANDARD
END:VTIMEZONE
BEGIN:VEVENT
DTSTART;TZID=Europe/Rome:20251014T180000
DTEND;TZID=Europe/Rome:20251014T190000
DTSTAMP:20260419T233228
CREATED:20251007T122027Z
LAST-MODIFIED:20251007T122409Z
UID:3478-1760464800-1760468400@catiyoga.it
SUMMARY:Asanalab @ Ryoga Prati
DESCRIPTION:In questa classe si studiano in profondità le varie posizioni dello Yoga\, sperimentando anche delle variazioni delle stesse ma sempre mantenendo la massima attenzione alla precisione dell’allineamento del corpo. Attraverso tecniche di flessibilità attiva e mobilità si prenderà maggiore consapevolezza nell’esecuzione delle Asana e si otterrà una pratica più sicura e accessibile per tutti i livelli.
URL:https://catiyoga.it/evento/asanalab/
LOCATION:Ryoga Prati\, Via Durazzo 24\, Roma
CATEGORIES:AsanaLab
ATTACH;FMTTYPE=image/png:https://catiyoga.it/wp-content/uploads/2025/09/sequenze-150x150-1.png
END:VEVENT
BEGIN:VEVENT
DTSTART;TZID=Europe/Rome:20251017T070000
DTEND;TZID=Europe/Rome:20251017T074500
DTSTAMP:20260419T233228
CREATED:20251007T114214Z
LAST-MODIFIED:20251007T123216Z
UID:3443-1760684400-1760687100@catiyoga.it
SUMMARY:Pranayama – online
DESCRIPTION:Collegati online per iniziare la giornata con il respiro giusto! \nPer prenotarti e ricevere il link alla stanza zoom: caterina@catiyoga.it
URL:https://catiyoga.it/evento/pranayama-online-2/
CATEGORIES:Pranayama
ATTACH;FMTTYPE=image/png:https://catiyoga.it/wp-content/uploads/2025/09/logo-catiyoga.png
END:VEVENT
BEGIN:VEVENT
DTSTART;TZID=Europe/Rome:20251020T194500
DTEND;TZID=Europe/Rome:20251020T210000
DTSTAMP:20260419T233228
CREATED:20251007T113249Z
LAST-MODIFIED:20251007T123225Z
UID:3418-1760989500-1760994000@catiyoga.it
SUMMARY:Moon Flow @ Aura Sacred Space
DESCRIPTION:una pratica serale e distensiva che prende ispirazione dalla poesia e dalle fasi della luna. Dopo un inizio dolce ma dinamico a ritmo di Chandra Namaskar (saluti alla luna) si continua con  posizioni più statiche che rilassano corpo e mente predisponendo a pratiche introspettive quali pranayama e meditazione.\n OGNI LUNEDI SERA ALLE 19:45 presso AURA SACRED SPACE – Via degli Ombrellari 44 Roma.\nInformazioni e Prenotazioni.
URL:https://catiyoga.it/evento/moonflow-2/
LOCATION:Aura Sacred Space\, Via degli Ombrellari 44\, Roma
CATEGORIES:Moon flow,pratica serale Yin&Yang
ATTACH;FMTTYPE=image/jpeg:https://catiyoga.it/wp-content/uploads/2025/09/Pranayama.jpg
END:VEVENT
BEGIN:VEVENT
DTSTART;TZID=Europe/Rome:20251021T184500
DTEND;TZID=Europe/Rome:20251021T200000
DTSTAMP:20260419T233228
CREATED:20251020T124907Z
LAST-MODIFIED:20251020T131301Z
UID:3609-1761072300-1761076800@catiyoga.it
SUMMARY:Vinyasa Flow / Yoga e Forza @ Aura Sacred Space
DESCRIPTION:This class derives from Yoga Sangraha\, it is more a flow kind of practice and it is integrated with strengthening postures taken from the Indian boxe and wrestling tradition. It is especially useful for over 50 years old who have already experience in Yoga and need to integrate stretching with resistance training. \nInformazioni e Prenotazioni.
URL:https://catiyoga.it/evento/moonflow-3-2-2/
LOCATION:Aura Sacred Space\, Via degli Ombrellari 44\, Roma
CATEGORIES:Vinyasa Flow
ATTACH;FMTTYPE=image/png:https://catiyoga.it/wp-content/uploads/2025/10/vashista150x150.png
END:VEVENT
BEGIN:VEVENT
DTSTART;TZID=Europe/Rome:20251023T191500
DTEND;TZID=Europe/Rome:20251023T203000
DTSTAMP:20260419T233228
CREATED:20251023T083535Z
LAST-MODIFIED:20251023T083535Z
UID:3626-1761246900-1761251400@catiyoga.it
SUMMARY:Hatha @ Ryoga Prati
DESCRIPTION:A livello posturale on questo nome si indica uno stile dal ritmo più lento in cui le posizioni sono tenute più a lungo. Si inizia e termina con il pranayama.
URL:https://catiyoga.it/evento/hatha-sallustiano-3/
LOCATION:Ryoga Prati\, Via Durazzo 24\, Roma
CATEGORIES:Hatha Yoga
ATTACH;FMTTYPE=image/png:https://catiyoga.it/wp-content/uploads/2025/09/sequenze-150x150-1.png
END:VEVENT
BEGIN:VEVENT
DTSTART;TZID=Europe/Rome:20251024T070000
DTEND;TZID=Europe/Rome:20251024T074500
DTSTAMP:20260419T233228
CREATED:20251007T114427Z
LAST-MODIFIED:20251007T123231Z
UID:3450-1761289200-1761291900@catiyoga.it
SUMMARY:Pranayama – online
DESCRIPTION:Collegati online per iniziare la giornata con il respiro giusto! \nPer prenotarti e ricevere il link alla stanza zoom: caterina@catiyoga.it
URL:https://catiyoga.it/evento/pranayama-online-3/
CATEGORIES:Pranayama
ATTACH;FMTTYPE=image/png:https://catiyoga.it/wp-content/uploads/2025/09/logo-catiyoga.png
END:VEVENT
BEGIN:VEVENT
DTSTART;TZID=Europe/Rome:20251024T193000
DTEND;TZID=Europe/Rome:20251024T204500
DTSTAMP:20260419T233228
CREATED:20251020T124750Z
LAST-MODIFIED:20251020T131526Z
UID:3606-1761334200-1761338700@catiyoga.it
SUMMARY:Yoga e Forza @Ryoga Trastevere
DESCRIPTION:Una lezione di vinyasa flow dinamica che accoppia lo sviluppo di forza e resistenza a quello di flessibilità e calma.
URL:https://catiyoga.it/evento/yogaeforza-3/
LOCATION:Ryoga Trastevere\, Via dei Fienaroli 27\, Roma
CATEGORIES:Vinyasa Flow
ATTACH;FMTTYPE=image/png:https://catiyoga.it/wp-content/uploads/2025/10/vashista150x150.png
END:VEVENT
BEGIN:VEVENT
DTSTART;TZID=Europe/Rome:20251025T120000
DTEND;TZID=Europe/Rome:20251025T134500
DTSTAMP:20260419T233228
CREATED:20251021T115552Z
LAST-MODIFIED:20251021T115552Z
UID:3623-1761393600-1761399900@catiyoga.it
SUMMARY:Vinyasa Flow @Ryoga Prati
DESCRIPTION:Una lezione di vinyasa flow dinamica che accoppia lo sviluppo di forza e resistenza a quello di flessibilità e calma.
URL:https://catiyoga.it/evento/yogaeforza-3-2/
LOCATION:Ryoga Prati\, Via Durazzo 24\, Roma
CATEGORIES:Vinyasa Flow
ATTACH;FMTTYPE=image/png:https://catiyoga.it/wp-content/uploads/2025/10/wildthing150x150.png
END:VEVENT
BEGIN:VEVENT
DTSTART;TZID=Europe/Rome:20251026T103000
DTEND;TZID=Europe/Rome:20251026T114500
DTSTAMP:20260419T233228
CREATED:20251023T083742Z
LAST-MODIFIED:20251023T083742Z
UID:3629-1761474600-1761479100@catiyoga.it
SUMMARY:Vinyasa Flow @Ryoga Trastevere
DESCRIPTION:Una lezione di vinyasa flow dinamica che accoppia lo sviluppo di forza e resistenza a quello di flessibilità e calma.
URL:https://catiyoga.it/evento/yogaeforza-3-2-2/
LOCATION:Ryoga Trastevere\, Via dei Fienaroli 27\, Roma
CATEGORIES:Vinyasa Flow
ATTACH;FMTTYPE=image/png:https://catiyoga.it/wp-content/uploads/2025/10/vashista150x150-1.png
END:VEVENT
BEGIN:VEVENT
DTSTART;TZID=Europe/Rome:20251027T194500
DTEND;TZID=Europe/Rome:20251027T210000
DTSTAMP:20260419T233228
CREATED:20251007T113349Z
LAST-MODIFIED:20251007T123241Z
UID:3422-1761594300-1761598800@catiyoga.it
SUMMARY:Moon Flow @ Aura Sacred Space
DESCRIPTION:una pratica serale e distensiva che prende ispirazione dalla poesia e dalle fasi della luna. Dopo un inizio dolce ma dinamico a ritmo di Chandra Namaskar (saluti alla luna) si continua con  posizioni più statiche che rilassano corpo e mente predisponendo a pratiche introspettive quali pranayama e meditazione.\n OGNI LUNEDI SERA ALLE 19:45 presso AURA SACRED SPACE – Via degli Ombrellari 44 Roma.\nInformazioni e Prenotazioni.
URL:https://catiyoga.it/evento/moonflow-3/
LOCATION:Aura Sacred Space\, Via degli Ombrellari 44\, Roma
CATEGORIES:Moon flow,pratica serale Yin&Yang
ATTACH;FMTTYPE=image/jpeg:https://catiyoga.it/wp-content/uploads/2025/09/Pranayama.jpg
END:VEVENT
BEGIN:VEVENT
DTSTART;TZID=Europe/Rome:20251031T070000
DTEND;TZID=Europe/Rome:20251031T074500
DTSTAMP:20260419T233228
CREATED:20251007T114459Z
LAST-MODIFIED:20251007T123249Z
UID:3453-1761894000-1761896700@catiyoga.it
SUMMARY:Pranayama – online
DESCRIPTION:Collegati online per iniziare la giornata con il respiro giusto! \nPer prenotarti e ricevere il link alla stanza zoom: caterina@catiyoga.it
URL:https://catiyoga.it/evento/pranayama-online-4/
CATEGORIES:Pranayama
ATTACH;FMTTYPE=image/png:https://catiyoga.it/wp-content/uploads/2025/09/logo-catiyoga.png
END:VEVENT
BEGIN:VEVENT
DTSTART;TZID=Europe/Rome:20251031T193000
DTEND;TZID=Europe/Rome:20251031T204500
DTSTAMP:20260419T233228
CREATED:20251029T075234Z
LAST-MODIFIED:20251029T075234Z
UID:3675-1761939000-1761943500@catiyoga.it
SUMMARY:Vinyasa Flow @Ryoga Trastevere
DESCRIPTION:Una lezione di vinyasa flow dinamica che accoppia lo sviluppo di forza e resistenza a quello di flessibilità e calma.
URL:https://catiyoga.it/evento/vinyasat-2/
LOCATION:Ryoga Trastevere\, Via dei Fienaroli 27\, Roma
CATEGORIES:Vinyasa Flow
ATTACH;FMTTYPE=image/png:https://catiyoga.it/wp-content/uploads/2025/10/vashista150x150-1.png
END:VEVENT
BEGIN:VEVENT
DTSTART;TZID=Europe/Rome:20251103T194500
DTEND;TZID=Europe/Rome:20251103T210000
DTSTAMP:20260419T233228
CREATED:20251007T113420Z
LAST-MODIFIED:20251007T123258Z
UID:3425-1762199100-1762203600@catiyoga.it
SUMMARY:Moon Flow @ Aura Sacred Space
DESCRIPTION:una pratica serale e distensiva che prende ispirazione dalla poesia e dalle fasi della luna. Dopo un inizio dolce ma dinamico a ritmo di Chandra Namaskar (saluti alla luna) si continua con  posizioni più statiche che rilassano corpo e mente predisponendo a pratiche introspettive quali pranayama e meditazione.\n OGNI LUNEDI SERA ALLE 19:45 presso AURA SACRED SPACE – Via degli Ombrellari 44 Roma.\nInformazioni e Prenotazioni.
URL:https://catiyoga.it/evento/moonflow-4/
LOCATION:Aura Sacred Space\, Via degli Ombrellari 44\, Roma
CATEGORIES:Moon flow,pratica serale Yin&Yang
ATTACH;FMTTYPE=image/jpeg:https://catiyoga.it/wp-content/uploads/2025/09/Pranayama.jpg
END:VEVENT
BEGIN:VEVENT
DTSTART;TZID=Europe/Rome:20251107T070000
DTEND;TZID=Europe/Rome:20251107T074500
DTSTAMP:20260419T233228
CREATED:20251027T073042Z
LAST-MODIFIED:20251027T073042Z
UID:3653-1762498800-1762501500@catiyoga.it
SUMMARY:Pranayama – online
DESCRIPTION:Collegati online per iniziare la giornata con il respiro giusto! \nPer prenotarti e ricevere il link alla stanza zoom: caterina@catiyoga.it
URL:https://catiyoga.it/evento/pranayama-online-4-2/
CATEGORIES:Pranayama
ATTACH;FMTTYPE=image/png:https://catiyoga.it/wp-content/uploads/2025/09/logo-catiyoga.png
END:VEVENT
BEGIN:VEVENT
DTSTART;TZID=Europe/Rome:20251108T091500
DTEND;TZID=Europe/Rome:20251108T103000
DTSTAMP:20260419T233228
CREATED:20251023T084216Z
LAST-MODIFIED:20251023T084555Z
UID:3632-1762593300-1762597800@catiyoga.it
SUMMARY:Hatha Flow @ Ryoga Prati
DESCRIPTION:L’Hatha Flow è una pratica che aggiunge fluidità alla classica tenuta statica delle Asana dell’Hatha Yoga. Le posizioni sono collegate in un’unica sequenza.\nIl ritmo della classe è meno serrato di stili quali l’Ashtanga o il Vinyasa e il livello è aperto a tutti\, sia ai principianti\, sia ai praticanti intermedi o avanzati alla ricerca di una pratica fisica ma al contempo consapevole.
URL:https://catiyoga.it/evento/hathaflow/
LOCATION:Ryoga Prati\, Via Durazzo 24\, Roma
CATEGORIES:Hatha Yoga
ATTACH;FMTTYPE=image/png:https://catiyoga.it/wp-content/uploads/2025/10/sequenze-150x150-1.png
END:VEVENT
BEGIN:VEVENT
DTSTART;TZID=Europe/Rome:20251108T103000
DTEND;TZID=Europe/Rome:20251108T114500
DTSTAMP:20260419T233228
CREATED:20251023T084444Z
LAST-MODIFIED:20251023T084444Z
UID:3636-1762597800-1762602300@catiyoga.it
SUMMARY:Hatha  @ Ryoga Prati
DESCRIPTION:A livello posturale on questo nome si indica uno stile dal ritmo più lento in cui le posizioni sono tenute più a lungo. Si inizia e termina con il pranayama.
URL:https://catiyoga.it/evento/hathaflow-2/
LOCATION:Ryoga Prati\, Via Durazzo 24\, Roma
CATEGORIES:Hatha Yoga
END:VEVENT
BEGIN:VEVENT
DTSTART;TZID=Europe/Rome:20251108T163000
DTEND;TZID=Europe/Rome:20251108T174500
DTSTAMP:20260419T233228
CREATED:20251023T084641Z
LAST-MODIFIED:20251023T084641Z
UID:3640-1762619400-1762623900@catiyoga.it
SUMMARY:Hatha  @ Ryoga Trastevere
DESCRIPTION:A livello posturale on questo nome si indica uno stile dal ritmo più lento in cui le posizioni sono tenute più a lungo. Si inizia e termina con il pranayama.
URL:https://catiyoga.it/evento/hathaflow-2-2/
LOCATION:Ryoga Trastevere\, Via dei Fienaroli 27\, Roma
CATEGORIES:Hatha Yoga
END:VEVENT
BEGIN:VEVENT
DTSTART;TZID=Europe/Rome:20251110T194500
DTEND;TZID=Europe/Rome:20251110T210000
DTSTAMP:20260419T233228
CREATED:20251007T113451Z
LAST-MODIFIED:20251007T123310Z
UID:3428-1762803900-1762808400@catiyoga.it
SUMMARY:Moon Flow @ Aura Sacred Space
DESCRIPTION:una pratica serale e distensiva che prende ispirazione dalla poesia e dalle fasi della luna. Dopo un inizio dolce ma dinamico a ritmo di Chandra Namaskar (saluti alla luna) si continua con  posizioni più statiche che rilassano corpo e mente predisponendo a pratiche introspettive quali pranayama e meditazione.\n OGNI LUNEDI SERA ALLE 19:45 presso AURA SACRED SPACE – Via degli Ombrellari 44 Roma.\nInformazioni e Prenotazioni.
URL:https://catiyoga.it/evento/moonflow-5/
LOCATION:Aura Sacred Space\, Via degli Ombrellari 44\, Roma
CATEGORIES:Moon flow,pratica serale Yin&Yang
ATTACH;FMTTYPE=image/jpeg:https://catiyoga.it/wp-content/uploads/2025/09/Pranayama.jpg
END:VEVENT
BEGIN:VEVENT
DTSTART;TZID=Europe/Rome:20251114T070000
DTEND;TZID=Europe/Rome:20251114T074500
DTSTAMP:20260419T233228
CREATED:20251027T073120Z
LAST-MODIFIED:20251027T073120Z
UID:3656-1763103600-1763106300@catiyoga.it
SUMMARY:Pranayama – online
DESCRIPTION:Collegati online per iniziare la giornata con il respiro giusto! \nPer prenotarti e ricevere il link alla stanza zoom: caterina@catiyoga.it
URL:https://catiyoga.it/evento/pranayama-online-4-2-2/
CATEGORIES:Pranayama
ATTACH;FMTTYPE=image/png:https://catiyoga.it/wp-content/uploads/2025/09/logo-catiyoga.png
END:VEVENT
BEGIN:VEVENT
DTSTART;TZID=Europe/Rome:20251117T194500
DTEND;TZID=Europe/Rome:20251117T210000
DTSTAMP:20260419T233228
CREATED:20251007T113523Z
LAST-MODIFIED:20251007T123318Z
UID:3431-1763408700-1763413200@catiyoga.it
SUMMARY:Moon Flow @ Aura Sacred Space
DESCRIPTION:una pratica serale e distensiva che prende ispirazione dalla poesia e dalle fasi della luna. Dopo un inizio dolce ma dinamico a ritmo di Chandra Namaskar (saluti alla luna) si continua con  posizioni più statiche che rilassano corpo e mente predisponendo a pratiche introspettive quali pranayama e meditazione.\n OGNI LUNEDI SERA ALLE 19:45 presso AURA SACRED SPACE – Via degli Ombrellari 44 Roma.\nInformazioni e Prenotazioni.
URL:https://catiyoga.it/evento/moonflow-6/
LOCATION:Aura Sacred Space\, Via degli Ombrellari 44\, Roma
CATEGORIES:Moon flow,pratica serale Yin&Yang
ATTACH;FMTTYPE=image/jpeg:https://catiyoga.it/wp-content/uploads/2025/09/Pranayama.jpg
END:VEVENT
BEGIN:VEVENT
DTSTART;TZID=Europe/Rome:20251118T191500
DTEND;TZID=Europe/Rome:20251118T203000
DTSTAMP:20260419T233228
CREATED:20251111T081825Z
LAST-MODIFIED:20251111T081825Z
UID:3701-1763493300-1763497800@catiyoga.it
SUMMARY:Hatha  @ Ryoga Prati
DESCRIPTION:A livello posturale on questo nome si indica uno stile dal ritmo più lento in cui le posizioni sono tenute più a lungo. Si inizia e termina con il pranayama.
URL:https://catiyoga.it/evento/hathaflow-2-4-3-2/
LOCATION:Ryoga Prati\, Via Durazzo 24\, Roma
CATEGORIES:Hatha Yoga
ATTACH;FMTTYPE=image/png:https://catiyoga.it/wp-content/uploads/2025/10/sequenze-150x150-1.png
END:VEVENT
BEGIN:VEVENT
DTSTART;TZID=Europe/Rome:20251119T191500
DTEND;TZID=Europe/Rome:20251119T201500
DTSTAMP:20260419T233228
CREATED:20251031T091600Z
LAST-MODIFIED:20251031T092317Z
UID:3681-1763579700-1763583300@catiyoga.it
SUMMARY:Hatha  @ Ryoga Sallustiano
DESCRIPTION:A livello posturale on questo nome si indica uno stile dal ritmo più lento in cui le posizioni sono tenute più a lungo. Si inizia e termina con il pranayama.
URL:https://catiyoga.it/evento/hathaflow-2-4-2/
LOCATION:Ryoga Sallustiano\, Via Servio Tullio 20 -22\, Roma
CATEGORIES:Hatha Yoga
ATTACH;FMTTYPE=image/png:https://catiyoga.it/wp-content/uploads/2025/10/sequenze-150x150-1.png
END:VEVENT
BEGIN:VEVENT
DTSTART;TZID=Europe/Rome:20251120T191500
DTEND;TZID=Europe/Rome:20251120T203000
DTSTAMP:20260419T233228
CREATED:20251031T091645Z
LAST-MODIFIED:20251031T092354Z
UID:3684-1763666100-1763670600@catiyoga.it
SUMMARY:Hatha  @ Ryoga Prati
DESCRIPTION:A livello posturale on questo nome si indica uno stile dal ritmo più lento in cui le posizioni sono tenute più a lungo. Si inizia e termina con il pranayama.
URL:https://catiyoga.it/evento/hathaflow-2-4-3/
LOCATION:Ryoga Prati\, Via Durazzo 24\, Roma
CATEGORIES:Hatha Yoga
ATTACH;FMTTYPE=image/png:https://catiyoga.it/wp-content/uploads/2025/10/sequenze-150x150-1.png
END:VEVENT
BEGIN:VEVENT
DTSTART;TZID=Europe/Rome:20251121T070000
DTEND;TZID=Europe/Rome:20251121T074500
DTSTAMP:20260419T233228
CREATED:20251027T073154Z
LAST-MODIFIED:20251027T073154Z
UID:3659-1763708400-1763711100@catiyoga.it
SUMMARY:Pranayama – online
DESCRIPTION:Collegati online per iniziare la giornata con il respiro giusto! \nPer prenotarti e ricevere il link alla stanza zoom: caterina@catiyoga.it
URL:https://catiyoga.it/evento/pranayama-online-5/
CATEGORIES:Pranayama
ATTACH;FMTTYPE=image/png:https://catiyoga.it/wp-content/uploads/2025/09/logo-catiyoga.png
END:VEVENT
BEGIN:VEVENT
DTSTART;TZID=Europe/Rome:20251121T190000
DTEND;TZID=Europe/Rome:20251121T200000
DTSTAMP:20260419T233228
CREATED:20251031T091830Z
LAST-MODIFIED:20251031T092423Z
UID:3688-1763751600-1763755200@catiyoga.it
SUMMARY:Hatha  @ Ryoga Sallustiano
DESCRIPTION:A livello posturale on questo nome si indica uno stile dal ritmo più lento in cui le posizioni sono tenute più a lungo. Si inizia e termina con il pranayama.
URL:https://catiyoga.it/evento/hathaflow-2-4-2-2/
LOCATION:Ryoga Sallustiano\, Via Servio Tullio 20 -22\, Roma
CATEGORIES:Hatha Yoga
ATTACH;FMTTYPE=image/png:https://catiyoga.it/wp-content/uploads/2025/10/sequenze-150x150-1.png
END:VEVENT
BEGIN:VEVENT
DTSTART;TZID=Europe/Rome:20251122T103000
DTEND;TZID=Europe/Rome:20251122T114500
DTSTAMP:20260419T233228
CREATED:20251027T072319Z
LAST-MODIFIED:20251027T072319Z
UID:3643-1763807400-1763811900@catiyoga.it
SUMMARY:Hatha  @ Ryoga Prati
DESCRIPTION:A livello posturale on questo nome si indica uno stile dal ritmo più lento in cui le posizioni sono tenute più a lungo. Si inizia e termina con il pranayama.
URL:https://catiyoga.it/evento/hathaflow-2-3/
LOCATION:Ryoga Prati\, Via Durazzo 24\, Roma
CATEGORIES:Hatha Yoga
ATTACH;FMTTYPE=image/png:https://catiyoga.it/wp-content/uploads/2025/10/loto150x150.png
END:VEVENT
BEGIN:VEVENT
DTSTART;TZID=Europe/Rome:20251122T163000
DTEND;TZID=Europe/Rome:20251122T174500
DTSTAMP:20260419T233228
CREATED:20251027T072551Z
LAST-MODIFIED:20251027T072945Z
UID:3646-1763829000-1763833500@catiyoga.it
SUMMARY:Hatha  @ Ryoga Trastevere
DESCRIPTION:A livello posturale on questo nome si indica uno stile dal ritmo più lento in cui le posizioni sono tenute più a lungo. Si inizia e termina con il pranayama.
URL:https://catiyoga.it/evento/hathaflow-2-3-2/
LOCATION:Ryoga Trastevere\, Via dei Fienaroli 27\, Roma
CATEGORIES:Hatha Yoga
END:VEVENT
BEGIN:VEVENT
DTSTART;TZID=Europe/Rome:20251124T194500
DTEND;TZID=Europe/Rome:20251124T210000
DTSTAMP:20260419T233228
CREATED:20251007T113610Z
LAST-MODIFIED:20251007T123327Z
UID:3434-1764013500-1764018000@catiyoga.it
SUMMARY:Moon Flow @ Aura Sacred Space
DESCRIPTION:una pratica serale e distensiva che prende ispirazione dalla poesia e dalle fasi della luna. Dopo un inizio dolce ma dinamico a ritmo di Chandra Namaskar (saluti alla luna) si continua con  posizioni più statiche che rilassano corpo e mente predisponendo a pratiche introspettive quali pranayama e meditazione.\n OGNI LUNEDI SERA ALLE 19:45 presso AURA SACRED SPACE – Via degli Ombrellari 44 Roma.\nInformazioni e Prenotazioni.
URL:https://catiyoga.it/evento/moonflow-7/
LOCATION:Aura Sacred Space\, Via degli Ombrellari 44\, Roma
CATEGORIES:Moon flow,pratica serale Yin&Yang
ATTACH;FMTTYPE=image/jpeg:https://catiyoga.it/wp-content/uploads/2025/09/Pranayama.jpg
END:VEVENT
BEGIN:VEVENT
DTSTART;TZID=Europe/Rome:20251127T200000
DTEND;TZID=Europe/Rome:20251127T210000
DTSTAMP:20260419T233228
CREATED:20251126T143242Z
LAST-MODIFIED:20251126T144440Z
UID:3708-1764273600-1764277200@catiyoga.it
SUMMARY:Yin Yoga @ Aura Sacred Space
DESCRIPTION:Uno stile estremamente rilassante per il sistema nervoso lin cui e posizioni sono tenute per molto tempo\, spesso con il supporto di blocchetti o cuscini\, e in maniera passiva (i muscoli sono rilassati). \nInfo e prenotazioni
URL:https://catiyoga.it/evento/moonflow-7-2/
LOCATION:Aura Sacred Space\, Via degli Ombrellari 44\, Roma
CATEGORIES:Yin
ATTACH;FMTTYPE=image/png:https://catiyoga.it/wp-content/uploads/2025/11/Senza-titolo-150-x-150-px.png
END:VEVENT
BEGIN:VEVENT
DTSTART;TZID=Europe/Rome:20251128T070000
DTEND;TZID=Europe/Rome:20251128T074500
DTSTAMP:20260419T233228
CREATED:20251027T073226Z
LAST-MODIFIED:20251027T073226Z
UID:3662-1764313200-1764315900@catiyoga.it
SUMMARY:Pranayama – online
DESCRIPTION:Collegati online per iniziare la giornata con il respiro giusto! \nPer prenotarti e ricevere il link alla stanza zoom: caterina@catiyoga.it
URL:https://catiyoga.it/evento/pranayama-online-6/
CATEGORIES:Pranayama
ATTACH;FMTTYPE=image/png:https://catiyoga.it/wp-content/uploads/2025/09/logo-catiyoga.png
END:VEVENT
END:VCALENDAR